BEGIN:VCALENDAR
VERSION:2.0
PRODID:-//Corinne CHARPENTIER - ECPv6.15.20//NONSGML v1.0//EN
CALSCALE:GREGORIAN
METHOD:PUBLISH
X-WR-CALNAME:Corinne CHARPENTIER
X-ORIGINAL-URL:https://www.corinnecharpentier.com
X-WR-CALDESC:Évènements pour Corinne CHARPENTIER
REFRESH-INTERVAL;VALUE=DURATION:PT1H
X-Robots-Tag:noindex
X-PUBLISHED-TTL:PT1H
BEGIN:VTIMEZONE
TZID:Europe/Paris
BEGIN:DAYLIGHT
TZOFFSETFROM:+0100
TZOFFSETTO:+0200
TZNAME:CEST
DTSTART:20230326T010000
END:DAYLIGHT
BEGIN:STANDARD
TZOFFSETFROM:+0200
TZOFFSETTO:+0100
TZNAME:CET
DTSTART:20231029T010000
END:STANDARD
BEGIN:DAYLIGHT
TZOFFSETFROM:+0100
TZOFFSETTO:+0200
TZNAME:CEST
DTSTART:20240331T010000
END:DAYLIGHT
BEGIN:STANDARD
TZOFFSETFROM:+0200
TZOFFSETTO:+0100
TZNAME:CET
DTSTART:20241027T010000
END:STANDARD
BEGIN:DAYLIGHT
TZOFFSETFROM:+0100
TZOFFSETTO:+0200
TZNAME:CEST
DTSTART:20250330T010000
END:DAYLIGHT
BEGIN:STANDARD
TZOFFSETFROM:+0200
TZOFFSETTO:+0100
TZNAME:CET
DTSTART:20251026T010000
END:STANDARD
BEGIN:DAYLIGHT
TZOFFSETFROM:+0100
TZOFFSETTO:+0200
TZNAME:CEST
DTSTART:20260329T010000
END:DAYLIGHT
BEGIN:STANDARD
TZOFFSETFROM:+0200
TZOFFSETTO:+0100
TZNAME:CET
DTSTART:20261025T010000
END:STANDARD
END:VTIMEZONE
BEGIN:VEVENT
DTSTART;TZID=Europe/Paris:20241017T090000
DTEND;TZID=Europe/Paris:20250410T120000
DTSTAMP:20260420T101859
CREATED:20210713T144029Z
LAST-MODIFIED:20240830T091829Z
UID:3142-1729155600-1744286400@www.corinnecharpentier.com
SUMMARY:A LA RENCONTRE DE TON ARTISTE INTERIEUR en ligne
DESCRIPTION:Nous avons toutes et tous un cadeau à l’intérieur de nous\, une essence profonde\, un art qui ne demande qu’à s’exprimer pour notre plus grand épanouissement.\nJe suis en joie de vous annoncer que j’animerais le prochain stage  EN LIGNE et qu’il ouvre ses portes le 17 Octobre 2024. \n\nTu ne te sens pas créatif(ve)\, et tu as le sentiment que créer\, ce n’est pas pour toi\,\nTa créativité est bloquée et tu as besoin de la libérer\,\nTu aimerais mieux maîtriser ta créativité\, mieux la comprendre\, la connaître pour en développer le potentiel\nTu as un/des projet(s) mais tu es bloqué(e)\, tu n’arrives pas à passer à l’action\,\nTu ressens le besoin de t’exprimer plus\,\nPlus globalement\, tu aspires à passer à autre chose\, à redonner du sens à ta vie\,\n\nAlors bienvenue dans l’espace de ton artiste intérieur\, et ton artiste intérieur n’est peut-être pas celui que tu crois ! L’heure est venue de le rencontrer\, d’apprendre à fonctionner avec lui\, de te connecter à lui\, de le manifester pleinement afin d’exprimer qui tu es vraiment. \nCe stage se déroule en 3 étapes \n\nPremiere session : Information et intention\nEn 7 sessions : Rencontre de ton artiste intérieur en 6 facettes: tu vis un voyage de découverte\, transformation personnelle\, libération\, émergence\nDernière session :Passage à l’acte créatif : le processus de rencontre débouche sur la mise en route de ton artiste intérieur.\n\nA l’issue de ce voyage\, tu auras rencontré et mis ton artiste intérieur en route\, tu auras intégré l’outil Self-artist. \nContenu : 9 sessions de 3h de 9h à 12h par zoom animées par Corinne + 2 séances individuelles de 1h avec Corinne \nDates : \n\nSession 1 : 17 Octobre \nSession 2 : 14 Novembre 2024\, \nSession 3 : 12 Décembre 2024\, \nSession 4 : 9 janvier  2024\, \nSession 5 : 30 janvier 2024\, \nSession 6 : 13 février 2024\,\nSession 7 : 6 mars 2024 \nSession 8 : 27 mars 2024 \,\nSession 9 : 10 avril 2024 \n\nAucun pré-requis.\nToutes les sessions sont enregistrées pour les participants\, pour revisionnage ou en cas d’absence. \nTarif :\nPaiement en une seule fois : 630€\nPaiement à chaque session et séance : 60 €\nInscription au : 06.18.29.53.06 / co.charpe@gmail.com
URL:https://www.corinnecharpentier.com/event/a-la-rencontre-de-son-artiste-interieur-en-ligne/
CATEGORIES:Ateliers
ATTACH;FMTTYPE=image/png:https://www.corinnecharpentier.com/wp-content/uploads/2023/12/POSTS-FB-14.png
END:VEVENT
END:VCALENDAR