BEGIN:VCALENDAR
VERSION:2.0
PRODID:-//Corinne CHARPENTIER - ECPv6.15.20//NONSGML v1.0//EN
CALSCALE:GREGORIAN
METHOD:PUBLISH
X-ORIGINAL-URL:https://www.corinnecharpentier.com
X-WR-CALDESC:Évènements pour Corinne CHARPENTIER
REFRESH-INTERVAL;VALUE=DURATION:PT1H
X-Robots-Tag:noindex
X-PUBLISHED-TTL:PT1H
BEGIN:VTIMEZONE
TZID:Europe/Paris
BEGIN:DAYLIGHT
TZOFFSETFROM:+0100
TZOFFSETTO:+0200
TZNAME:CEST
DTSTART:20250330T010000
END:DAYLIGHT
BEGIN:STANDARD
TZOFFSETFROM:+0200
TZOFFSETTO:+0100
TZNAME:CET
DTSTART:20251026T010000
END:STANDARD
BEGIN:DAYLIGHT
TZOFFSETFROM:+0100
TZOFFSETTO:+0200
TZNAME:CEST
DTSTART:20260329T010000
END:DAYLIGHT
BEGIN:STANDARD
TZOFFSETFROM:+0200
TZOFFSETTO:+0100
TZNAME:CET
DTSTART:20261025T010000
END:STANDARD
BEGIN:DAYLIGHT
TZOFFSETFROM:+0100
TZOFFSETTO:+0200
TZNAME:CEST
DTSTART:20270328T010000
END:DAYLIGHT
BEGIN:STANDARD
TZOFFSETFROM:+0200
TZOFFSETTO:+0100
TZNAME:CET
DTSTART:20271031T010000
END:STANDARD
END:VTIMEZONE
BEGIN:VEVENT
DTSTART;TZID=Europe/Paris:20260418T203000
DTEND;TZID=Europe/Paris:20260418T213000
DTSTAMP:20260419T155405
CREATED:20260128T120651Z
LAST-MODIFIED:20260331T082104Z
UID:5738-1776544200-1776547800@www.corinnecharpentier.com
SUMMARY:MON CORPS SAIT
DESCRIPTION:Lien pour réserver tes places : \nhttps://my.weezevent.com/mon-corps-sait-voiron-avril
URL:https://www.corinnecharpentier.com/event/mon-corps-sait/
LOCATION:salle de mouvements\, 5 rue des orphelines\, Voiron
CATEGORIES:Leurs shows exsitentiels
ATTACH;FMTTYPE=image/jpeg:https://www.corinnecharpentier.com/wp-content/uploads/2026/01/657356836_978675521256702_5078300951888735665_n.jpg
END:VEVENT
END:VCALENDAR